BEGIN:VCALENDAR
METHOD:PUBLISH
PRODID:www-ac-tf-fau-eu//Events//EN
VERSION:2.0
BEGIN:VEVENT
SUMMARY:Vortrag Teamproject / Kozanli\, Varol\, Sonani\, Metioglu / Ne
 uffer / Seminarraum 04.019
UID:040000008200E00074C5B7101A82E00800000000101EE5EFCFD0DC010000000000
 000000100000005F2231ACA612B240A4CA753FE6BC894B
DTSTART:20260506T131500Z
DTEND:20260506T134500Z
DTSTAMP:20260421T140524Z
END:VEVENT
END:VCALENDAR